BEGIN:VCALENDAR
VERSION:2.0
PRODID:-//Butler Tech//Internal Calendar//EN
CALSCALE:GREGORIAN
METHOD:PUBLISH
BEGIN:VEVENT
UID:1052@www.butlertech.org
DTSTAMP:20260420T042816Z
DTSTART;VALUE=DATE:20210510
DTEND;VALUE=DATE:20210511
SUMMARY:LEI Threat Assessment Training Start
DESCRIPTION:LEI Threat Assessment Training: 05-10-2021 &#8211\; 05-10-2021Thu 8am-5pmPublic Safety Liberty Twp Campus\n\nhttps://www.butlertech.org/event/threat-assessment-training-program-start/
LOCATION:
URL:https://www.butlertech.org/event/threat-assessment-training-program-start/
END:VEVENT
END:VCALENDAR
