BEGIN:VCALENDAR
VERSION:2.0
PRODID:-//Butler Tech//Internal Calendar//EN
CALSCALE:GREGORIAN
METHOD:PUBLISH
BEGIN:VEVENT
UID:1312@www.butlertech.org
DTSTAMP:20260419T172040Z
DTSTART;VALUE=DATE:20211016
DTEND;VALUE=DATE:20211017
SUMMARY:Private Security Firearms Requalification Start
DESCRIPTION:Private Security Firearms Requalification: 10-16-2021 &#8211\; 10-16-2021Sat 8am-12:30pmPublic Safety Liberty Twp Campus\n\nhttps://www.butlertech.org/event/private-security-firearms-requalification-start-9/
LOCATION:
URL:https://www.butlertech.org/event/private-security-firearms-requalification-start-9/
END:VEVENT
END:VCALENDAR
