BEGIN:VCALENDAR
VERSION:2.0
PRODID:-//Butler Tech//Internal Calendar//EN
CALSCALE:GREGORIAN
METHOD:PUBLISH
BEGIN:VEVENT
UID:14888@www.butlertech.org
DTSTAMP:20260420T210044Z
DTSTART:20260422T120000Z
DTEND:20260422T130000Z
SUMMARY:SOA DANCE SHOW
DESCRIPTION:SOA DANCE SHOW\n\nhttps://www.butlertech.org/event/soa-dance-show/
LOCATION:School of the Arts (SOA)
URL:https://www.butlertech.org/event/soa-dance-show/
END:VEVENT
END:VCALENDAR
