BEGIN:VCALENDAR
VERSION:2.0
PRODID:-//Butler Tech//Internal Calendar//EN
CALSCALE:GREGORIAN
METHOD:PUBLISH
BEGIN:VEVENT
UID:14892@www.butlertech.org
DTSTAMP:20260420T230405Z
DTSTART:20260422T183000Z
DTEND:20260422T193000Z
SUMMARY:SOA DANCE SHOW
DESCRIPTION:SOA DANCE SHOW\n\nhttps://www.butlertech.org/event/soa-dance-show-2/
LOCATION:School of the Arts (SOA)
URL:https://www.butlertech.org/event/soa-dance-show-2/
END:VEVENT
END:VCALENDAR
