BEGIN:VCALENDAR
VERSION:2.0
PRODID:-//Butler Tech//Internal Calendar//EN
CALSCALE:GREGORIAN
METHOD:PUBLISH
BEGIN:VEVENT
UID:14897@www.butlertech.org
DTSTAMP:20260420T224303Z
DTSTART:20260513T080000Z
DTEND:20260513T100000Z
SUMMARY:SOA DECISION DAY
DESCRIPTION:SOA DECISION DAY\n\nhttps://www.butlertech.org/event/soa-decision-day/
LOCATION:School of the Arts (SOA)
URL:https://www.butlertech.org/event/soa-decision-day/
END:VEVENT
END:VCALENDAR
