BEGIN:VCALENDAR
VERSION:2.0
PRODID:-//Butler Tech//Internal Calendar//EN
CALSCALE:GREGORIAN
METHOD:PUBLISH
BEGIN:VEVENT
UID:14898@www.butlertech.org
DTSTAMP:20260420T230835Z
DTSTART;VALUE=DATE:20260803
DTEND;VALUE=DATE:20260805
SUMMARY:New Employee Orientation
DESCRIPTION:https://www.butlertech.org/event/new-employee-orientation-2/
LOCATION:Central Office
URL:https://www.butlertech.org/event/new-employee-orientation-2/
END:VEVENT
END:VCALENDAR
