BEGIN:VCALENDAR
VERSION:2.0
PRODID:-//Butler Tech//Internal Calendar//EN
CALSCALE:GREGORIAN
METHOD:PUBLISH
BEGIN:VEVENT
UID:14900@www.butlertech.org
DTSTAMP:20260420T230835Z
DTSTART;VALUE=DATE:20260806
DTEND;VALUE=DATE:20260807
SUMMARY:1/2 Teacher PD\, 1/2 Teacher Workday
DESCRIPTION:https://www.butlertech.org/event/1-2-teacher-pd-1-2-teacher-workday/
LOCATION:
URL:https://www.butlertech.org/event/1-2-teacher-pd-1-2-teacher-workday/
END:VEVENT
END:VCALENDAR
