BEGIN:VCALENDAR
VERSION:2.0
PRODID:-//Butler Tech//Internal Calendar//EN
CALSCALE:GREGORIAN
METHOD:PUBLISH
BEGIN:VEVENT
UID:14903@www.butlertech.org
DTSTAMP:20260420T230301Z
DTSTART;VALUE=DATE:20260807
DTEND;VALUE=DATE:20260808
SUMMARY:1/2 Teacher PD\, 1/2 Teacher Workday
DESCRIPTION:https://www.butlertech.org/event/1-2-teacher-pd-1-2-teacher-workday-2/
LOCATION:
URL:https://www.butlertech.org/event/1-2-teacher-pd-1-2-teacher-workday-2/
END:VEVENT
END:VCALENDAR
