BEGIN:VCALENDAR
VERSION:2.0
PRODID:-//Butler Tech//Internal Calendar//EN
CALSCALE:GREGORIAN
METHOD:PUBLISH
BEGIN:VEVENT
UID:14906@www.butlertech.org
DTSTAMP:20260420T223822Z
DTSTART:20260810T103000Z
DTEND:20260810T180000Z
SUMMARY:High School Student Orientation
DESCRIPTION:https://www.butlertech.org/event/high-school-student-orientation/
LOCATION:
URL:https://www.butlertech.org/event/high-school-student-orientation/
END:VEVENT
END:VCALENDAR
