BEGIN:VCALENDAR
VERSION:2.0
PRODID:-//Butler Tech//Internal Calendar//EN
CALSCALE:GREGORIAN
METHOD:PUBLISH
BEGIN:VEVENT
UID:14908@www.butlertech.org
DTSTAMP:20260420T223723Z
DTSTART;VALUE=DATE:20260811
DTEND;VALUE=DATE:20260812
SUMMARY:High School Teacher Workday
DESCRIPTION:https://www.butlertech.org/event/high-school-teacher-workday-2/
LOCATION:
URL:https://www.butlertech.org/event/high-school-teacher-workday-2/
END:VEVENT
END:VCALENDAR
