BEGIN:VCALENDAR
VERSION:2.0
PRODID:-//Butler Tech//Internal Calendar//EN
CALSCALE:GREGORIAN
METHOD:PUBLISH
BEGIN:VEVENT
UID:14910@www.butlertech.org
DTSTAMP:20260420T230225Z
DTSTART;VALUE=DATE:20260812
DTEND;VALUE=DATE:20260813
SUMMARY:First Day of School for Sophomores and Juniors
DESCRIPTION:https://www.butlertech.org/event/first-day-of-school-for-sophomores-and-juniors/
LOCATION:
URL:https://www.butlertech.org/event/first-day-of-school-for-sophomores-and-juniors/
END:VEVENT
END:VCALENDAR
