BEGIN:VCALENDAR
VERSION:2.0
PRODID:-//Butler Tech//Internal Calendar//EN
CALSCALE:GREGORIAN
METHOD:PUBLISH
BEGIN:VEVENT
UID:14912@www.butlertech.org
DTSTAMP:20260420T230606Z
DTSTART;VALUE=DATE:20260813
DTEND;VALUE=DATE:20260814
SUMMARY:First Day of School for all Seniors
DESCRIPTION:All BT Campus Students in Attendance\n\nhttps://www.butlertech.org/event/first-day-of-school-for-all-seniors/
LOCATION:
URL:https://www.butlertech.org/event/first-day-of-school-for-all-seniors/
END:VEVENT
END:VCALENDAR
