BEGIN:VCALENDAR
VERSION:2.0
PRODID:-//Butler Tech//Internal Calendar//EN
CALSCALE:GREGORIAN
METHOD:PUBLISH
BEGIN:VEVENT
UID:14917@www.butlertech.org
DTSTAMP:20260420T223904Z
DTSTART;VALUE=DATE:20260907
DTEND;VALUE=DATE:20260908
SUMMARY:No High School - Labor Day
DESCRIPTION:https://www.butlertech.org/event/no-high-school-labor-day/
LOCATION:
URL:https://www.butlertech.org/event/no-high-school-labor-day/
END:VEVENT
END:VCALENDAR
