BEGIN:VCALENDAR
VERSION:2.0
PRODID:-//Butler Tech//Internal Calendar//EN
CALSCALE:GREGORIAN
METHOD:PUBLISH
BEGIN:VEVENT
UID:14920@www.butlertech.org
DTSTAMP:20260420T223741Z
DTSTART:20260924T150000Z
DTEND:20260924T190000Z
SUMMARY:Parent/Teacher Conferences
DESCRIPTION:https://www.butlertech.org/event/parent-teacher-conferences-4/
LOCATION:
URL:https://www.butlertech.org/event/parent-teacher-conferences-4/
END:VEVENT
END:VCALENDAR
