BEGIN:VCALENDAR
VERSION:2.0
PRODID:-//Butler Tech//Internal Calendar//EN
CALSCALE:GREGORIAN
METHOD:PUBLISH
BEGIN:VEVENT
UID:14922@www.butlertech.org
DTSTAMP:20260420T224825Z
DTSTART;VALUE=DATE:20260925
DTEND;VALUE=DATE:20260926
SUMMARY:Blended Learning - All Students\, Fifth Day Exprience
DESCRIPTION:https://www.butlertech.org/event/blended-learning-all-students-fifth-day-exprience/
LOCATION:
URL:https://www.butlertech.org/event/blended-learning-all-students-fifth-day-exprience/
END:VEVENT
END:VCALENDAR
