BEGIN:VCALENDAR
VERSION:2.0
PRODID:-//Butler Tech//Internal Calendar//EN
CALSCALE:GREGORIAN
METHOD:PUBLISH
BEGIN:VEVENT
UID:14924@www.butlertech.org
DTSTAMP:20260420T223822Z
DTSTART;VALUE=DATE:20261008
DTEND;VALUE=DATE:20261009
SUMMARY:Blended Learning Day - All HS Students
DESCRIPTION:1/2 Teacher PD\, 1/2 Teacher Workday End of 1st Quarter\n\nhttps://www.butlertech.org/event/blended-learning-day-all-hs-students/
LOCATION:
URL:https://www.butlertech.org/event/blended-learning-day-all-hs-students/
END:VEVENT
END:VCALENDAR
