BEGIN:VCALENDAR
VERSION:2.0
PRODID:-//Butler Tech//Internal Calendar//EN
CALSCALE:GREGORIAN
METHOD:PUBLISH
BEGIN:VEVENT
UID:14926@www.butlertech.org
DTSTAMP:20260420T223940Z
DTSTART;VALUE=DATE:20261009
DTEND;VALUE=DATE:20261013
SUMMARY:No School - All HS Students
DESCRIPTION:Fall Break\n\nhttps://www.butlertech.org/event/no-school-all-hs-students/
LOCATION:
URL:https://www.butlertech.org/event/no-school-all-hs-students/
END:VEVENT
END:VCALENDAR
