BEGIN:VCALENDAR
VERSION:2.0
PRODID:-//Butler Tech//Internal Calendar//EN
CALSCALE:GREGORIAN
METHOD:PUBLISH
BEGIN:VEVENT
UID:14930@www.butlertech.org
DTSTAMP:20260420T223741Z
DTSTART;VALUE=DATE:20261023
DTEND;VALUE=DATE:20261024
SUMMARY:Blended Learning - All HS Students\, Fifth Day Experience
DESCRIPTION:https://www.butlertech.org/event/blended-learning-all-hs-students-fifth-day-experience/
LOCATION:
URL:https://www.butlertech.org/event/blended-learning-all-hs-students-fifth-day-experience/
END:VEVENT
END:VCALENDAR
