BEGIN:VCALENDAR
VERSION:2.0
PRODID:-//Butler Tech//Internal Calendar//EN
CALSCALE:GREGORIAN
METHOD:PUBLISH
BEGIN:VEVENT
UID:14932@www.butlertech.org
DTSTAMP:20260420T223633Z
DTSTART:20261029T150000Z
DTEND:20261029T190000Z
SUMMARY:10th Grade Student Showcases
DESCRIPTION:https://www.butlertech.org/event/10th-grade-student-showcases-3/
LOCATION:Advanced Manufacturing Hub (AM HUB)
URL:https://www.butlertech.org/event/10th-grade-student-showcases-3/
END:VEVENT
END:VCALENDAR
