BEGIN:VCALENDAR
VERSION:2.0
PRODID:-//Butler Tech//Internal Calendar//EN
CALSCALE:GREGORIAN
METHOD:PUBLISH
BEGIN:VEVENT
UID:14934@www.butlertech.org
DTSTAMP:20260420T230154Z
DTSTART;VALUE=DATE:20261103
DTEND;VALUE=DATE:20261104
SUMMARY:Blended Learning Day - All HS Students\, Annual All Staff Meeting
DESCRIPTION:https://www.butlertech.org/event/blended-learning-day-all-hs-students-annual-all-staff-meeting/
LOCATION:
URL:https://www.butlertech.org/event/blended-learning-day-all-hs-students-annual-all-staff-meeting/
END:VEVENT
END:VCALENDAR
