BEGIN:VCALENDAR
VERSION:2.0
PRODID:-//Butler Tech//Internal Calendar//EN
CALSCALE:GREGORIAN
METHOD:PUBLISH
BEGIN:VEVENT
UID:14936@www.butlertech.org
DTSTAMP:20260420T224045Z
DTSTART;VALUE=DATE:20261118
DTEND;VALUE=DATE:20261121
SUMMARY:10th Grade Career Days
DESCRIPTION:https://www.butlertech.org/event/10th-grade-career-days/
LOCATION:
URL:https://www.butlertech.org/event/10th-grade-career-days/
END:VEVENT
END:VCALENDAR
