BEGIN:VCALENDAR
VERSION:2.0
PRODID:-//Butler Tech//Internal Calendar//EN
CALSCALE:GREGORIAN
METHOD:PUBLISH
BEGIN:VEVENT
UID:14940@www.butlertech.org
DTSTAMP:20260420T224739Z
DTSTART;VALUE=DATE:20261221
DTEND;VALUE=DATE:20261223
SUMMARY:Blended Learning - All HS Students\, Encore Showcases
DESCRIPTION:https://www.butlertech.org/event/blended-learning-all-hs-students-encore-showcases/
LOCATION:
URL:https://www.butlertech.org/event/blended-learning-all-hs-students-encore-showcases/
END:VEVENT
END:VCALENDAR
