BEGIN:VCALENDAR
VERSION:2.0
PRODID:-//Butler Tech//Internal Calendar//EN
CALSCALE:GREGORIAN
METHOD:PUBLISH
BEGIN:VEVENT
UID:14942@www.butlertech.org
DTSTAMP:20260420T225227Z
DTSTART;VALUE=DATE:20261223
DTEND;VALUE=DATE:20270102
SUMMARY:Winter Break - No School\, All HS Students
DESCRIPTION:https://www.butlertech.org/event/winter-break-no-school-all-hs-students/
LOCATION:
URL:https://www.butlertech.org/event/winter-break-no-school-all-hs-students/
END:VEVENT
END:VCALENDAR
