BEGIN:VCALENDAR
VERSION:2.0
PRODID:-//Butler Tech//Internal Calendar//EN
CALSCALE:GREGORIAN
METHOD:PUBLISH
BEGIN:VEVENT
UID:14944@www.butlertech.org
DTSTAMP:20260420T230036Z
DTSTART;VALUE=DATE:20270104
DTEND;VALUE=DATE:20270105
SUMMARY:No School - All HS Students\, Teacher Workday
DESCRIPTION:https://www.butlertech.org/event/no-school-all-hs-students-teacher-workday/
LOCATION:
URL:https://www.butlertech.org/event/no-school-all-hs-students-teacher-workday/
END:VEVENT
END:VCALENDAR
