BEGIN:VCALENDAR
VERSION:2.0
PRODID:-//Butler Tech//Internal Calendar//EN
CALSCALE:GREGORIAN
METHOD:PUBLISH
BEGIN:VEVENT
UID:14946@www.butlertech.org
DTSTAMP:20260420T230728Z
DTSTART;VALUE=DATE:20270105
DTEND;VALUE=DATE:20270106
SUMMARY:Resume School - All HS Students\, Start of 3rd Quarter/2nd Semester
DESCRIPTION:https://www.butlertech.org/event/resume-school-all-hs-students-start-of-3rd-quarter-2nd-semester/
LOCATION:
URL:https://www.butlertech.org/event/resume-school-all-hs-students-start-of-3rd-quarter-2nd-semester/
END:VEVENT
END:VCALENDAR
