BEGIN:VCALENDAR
VERSION:2.0
PRODID:-//Butler Tech//Internal Calendar//EN
CALSCALE:GREGORIAN
METHOD:PUBLISH
BEGIN:VEVENT
UID:14948@www.butlertech.org
DTSTAMP:20260420T230154Z
DTSTART:20270114T160000Z
DTEND:20270114T190000Z
SUMMARY:2-Year\, 1-Year\, & Short-Term #1 Programs OPEN HOUSE
DESCRIPTION:https://www.butlertech.org/event/2-year-1-year-short-term-1-programs-open-house/
LOCATION:
URL:https://www.butlertech.org/event/2-year-1-year-short-term-1-programs-open-house/
END:VEVENT
END:VCALENDAR
