BEGIN:VCALENDAR
VERSION:2.0
PRODID:-//Butler Tech//Internal Calendar//EN
CALSCALE:GREGORIAN
METHOD:PUBLISH
BEGIN:VEVENT
UID:14952@www.butlertech.org
DTSTAMP:20260420T224739Z
DTSTART;VALUE=DATE:20270118
DTEND;VALUE=DATE:20270119
SUMMARY:No School - All HS Students\, MLK Day
DESCRIPTION:https://www.butlertech.org/event/no-school-all-hs-students-mlk-day/
LOCATION:
URL:https://www.butlertech.org/event/no-school-all-hs-students-mlk-day/
END:VEVENT
END:VCALENDAR
