BEGIN:VCALENDAR
VERSION:2.0
PRODID:-//Butler Tech//Internal Calendar//EN
CALSCALE:GREGORIAN
METHOD:PUBLISH
BEGIN:VEVENT
UID:14956@www.butlertech.org
DTSTAMP:20260420T224222Z
DTSTART;VALUE=DATE:20270205
DTEND;VALUE=DATE:20270206
SUMMARY:9th Grade Discovery Days
DESCRIPTION:https://www.butlertech.org/event/9th-grade-discovery-days/
LOCATION:
URL:https://www.butlertech.org/event/9th-grade-discovery-days/
END:VEVENT
END:VCALENDAR
