BEGIN:VCALENDAR
VERSION:2.0
PRODID:-//Butler Tech//Internal Calendar//EN
CALSCALE:GREGORIAN
METHOD:PUBLISH
BEGIN:VEVENT
UID:14957@www.butlertech.org
DTSTAMP:20260420T223952Z
DTSTART:20260507T170000Z
DTEND:20260507T210000Z
SUMMARY:SOA Arts Gala
DESCRIPTION:The Arts Gala event will feature the work of more than 80 students across our artistic disciplines\, including Theater\, Musical Theater\, Dance\, Visual Arts\, and Recording Arts. While the event [&hellip\;]\n\nhttps://www.butlertech.org/event/soa-arts-gala/
LOCATION:School of the Arts (SOA)
URL:https://www.butlertech.org/event/soa-arts-gala/
END:VEVENT
END:VCALENDAR
