BEGIN:VCALENDAR
VERSION:2.0
PRODID:-//Butler Tech//Internal Calendar//EN
CALSCALE:GREGORIAN
METHOD:PUBLISH
BEGIN:VEVENT
UID:14961@www.butlertech.org
DTSTAMP:20260420T230606Z
DTSTART;VALUE=DATE:20270215
DTEND;VALUE=DATE:20270216
SUMMARY:No School - All HS Students\, President's Day
DESCRIPTION:https://www.butlertech.org/event/no-school-all-hs-students-presidents-day/
LOCATION:
URL:https://www.butlertech.org/event/no-school-all-hs-students-presidents-day/
END:VEVENT
END:VCALENDAR
