BEGIN:VCALENDAR
VERSION:2.0
PRODID:-//Butler Tech//Internal Calendar//EN
CALSCALE:GREGORIAN
METHOD:PUBLISH
BEGIN:VEVENT
UID:14963@www.butlertech.org
DTSTAMP:20260420T224702Z
DTSTART;VALUE=DATE:20270219
DTEND;VALUE=DATE:20270220
SUMMARY:9th Grade Discovery Days
DESCRIPTION:https://www.butlertech.org/event/9th-grade-discovery-days-2/
LOCATION:
URL:https://www.butlertech.org/event/9th-grade-discovery-days-2/
END:VEVENT
END:VCALENDAR
