BEGIN:VCALENDAR
VERSION:2.0
PRODID:-//Butler Tech//Internal Calendar//EN
CALSCALE:GREGORIAN
METHOD:PUBLISH
BEGIN:VEVENT
UID:14965@www.butlertech.org
DTSTAMP:20260420T230803Z
DTSTART;VALUE=DATE:20270226
DTEND;VALUE=DATE:20270227
SUMMARY:Blended Learning - All HS Students\, Fifth Day Experience
DESCRIPTION:https://www.butlertech.org/event/blended-learning-all-hs-students-fifth-day-experience-3/
LOCATION:
URL:https://www.butlertech.org/event/blended-learning-all-hs-students-fifth-day-experience-3/
END:VEVENT
END:VCALENDAR
