BEGIN:VCALENDAR
VERSION:2.0
PRODID:-//Butler Tech//Internal Calendar//EN
CALSCALE:GREGORIAN
METHOD:PUBLISH
BEGIN:VEVENT
UID:14967@www.butlertech.org
DTSTAMP:20260420T223832Z
DTSTART;VALUE=DATE:20270305
DTEND;VALUE=DATE:20270306
SUMMARY:9th Grade Discovery Days
DESCRIPTION:https://www.butlertech.org/event/9th-grade-discovery-days-3/
LOCATION:
URL:https://www.butlertech.org/event/9th-grade-discovery-days-3/
END:VEVENT
END:VCALENDAR
