BEGIN:VCALENDAR
VERSION:2.0
PRODID:-//Butler Tech//Internal Calendar//EN
CALSCALE:GREGORIAN
METHOD:PUBLISH
BEGIN:VEVENT
UID:14969@www.butlertech.org
DTSTAMP:20260420T223940Z
DTSTART:20270311T160000Z
DTEND:20270311T190000Z
SUMMARY:3-Year & Short-Term #2 Programs OPEN HOUSE
DESCRIPTION:https://www.butlertech.org/event/3-year-short-term-2-programs-open-house/
LOCATION:
URL:https://www.butlertech.org/event/3-year-short-term-2-programs-open-house/
END:VEVENT
END:VCALENDAR
