BEGIN:VCALENDAR
VERSION:2.0
PRODID:-//Butler Tech//Internal Calendar//EN
CALSCALE:GREGORIAN
METHOD:PUBLISH
BEGIN:VEVENT
UID:14971@www.butlertech.org
DTSTAMP:20260420T230835Z
DTSTART;VALUE=DATE:20270312
DTEND;VALUE=DATE:20270313
SUMMARY:End of 3rd Quarter - HS Students
DESCRIPTION:https://www.butlertech.org/event/end-of-3rd-quarter-hs-students/
LOCATION:
URL:https://www.butlertech.org/event/end-of-3rd-quarter-hs-students/
END:VEVENT
END:VCALENDAR
