BEGIN:VCALENDAR
VERSION:2.0
PRODID:-//Butler Tech//Internal Calendar//EN
CALSCALE:GREGORIAN
METHOD:PUBLISH
BEGIN:VEVENT
UID:14973@www.butlertech.org
DTSTAMP:20260420T230803Z
DTSTART;VALUE=DATE:20270315
DTEND;VALUE=DATE:20270316
SUMMARY:Start of 4th Quarter - All HS Students
DESCRIPTION:https://www.butlertech.org/event/start-of-4th-quarter-all-hs-students/
LOCATION:
URL:https://www.butlertech.org/event/start-of-4th-quarter-all-hs-students/
END:VEVENT
END:VCALENDAR
