BEGIN:VCALENDAR
VERSION:2.0
PRODID:-//Butler Tech//Internal Calendar//EN
CALSCALE:GREGORIAN
METHOD:PUBLISH
BEGIN:VEVENT
UID:14977@www.butlertech.org
DTSTAMP:20260420T223633Z
DTSTART:20270324T160000Z
DTEND:20270324T190000Z
SUMMARY:2-Year Programs Welcome Night
DESCRIPTION:https://www.butlertech.org/event/2-year-programs-welcome-night/
LOCATION:
URL:https://www.butlertech.org/event/2-year-programs-welcome-night/
END:VEVENT
END:VCALENDAR
