BEGIN:VCALENDAR
VERSION:2.0
PRODID:-//Butler Tech//Internal Calendar//EN
CALSCALE:GREGORIAN
METHOD:PUBLISH
BEGIN:VEVENT
UID:14979@www.butlertech.org
DTSTAMP:20260420T223723Z
DTSTART;VALUE=DATE:20270326
DTEND;VALUE=DATE:20270403
SUMMARY:Spring Break - All HS Students
DESCRIPTION:https://www.butlertech.org/event/spring-break-all-hs-students/
LOCATION:
URL:https://www.butlertech.org/event/spring-break-all-hs-students/
END:VEVENT
END:VCALENDAR
