BEGIN:VCALENDAR
VERSION:2.0
PRODID:-//Butler Tech//Internal Calendar//EN
CALSCALE:GREGORIAN
METHOD:PUBLISH
BEGIN:VEVENT
UID:14981@www.butlertech.org
DTSTAMP:20260420T224431Z
DTSTART:20260415T160000Z
DTEND:20260415T190000Z
SUMMARY:3-Year Programs Welcome Night
DESCRIPTION:https://www.butlertech.org/event/3-year-programs-welcome-night/
LOCATION:
URL:https://www.butlertech.org/event/3-year-programs-welcome-night/
END:VEVENT
END:VCALENDAR
