BEGIN:VCALENDAR
VERSION:2.0
PRODID:-//Butler Tech//Internal Calendar//EN
CALSCALE:GREGORIAN
METHOD:PUBLISH
BEGIN:VEVENT
UID:14985@www.butlertech.org
DTSTAMP:20260420T224120Z
DTSTART:20270422T150000Z
DTEND:20270422T190000Z
SUMMARY:Student Showcases - HS Students
DESCRIPTION:https://www.butlertech.org/event/student-showcases-hs-students/
LOCATION:
URL:https://www.butlertech.org/event/student-showcases-hs-students/
END:VEVENT
END:VCALENDAR
