BEGIN:VCALENDAR
VERSION:2.0
PRODID:-//Butler Tech//Internal Calendar//EN
CALSCALE:GREGORIAN
METHOD:PUBLISH
BEGIN:VEVENT
UID:14987@www.butlertech.org
DTSTAMP:20260420T224258Z
DTSTART:20270429T150000Z
DTEND:20270429T190000Z
SUMMARY:Student Showcases - HS Students
DESCRIPTION:https://www.butlertech.org/event/student-showcases-hs-students-2/
LOCATION:
URL:https://www.butlertech.org/event/student-showcases-hs-students-2/
END:VEVENT
END:VCALENDAR
