BEGIN:VCALENDAR
VERSION:2.0
PRODID:-//Butler Tech//Internal Calendar//EN
CALSCALE:GREGORIAN
METHOD:PUBLISH
BEGIN:VEVENT
UID:14989@www.butlertech.org
DTSTAMP:20260420T224135Z
DTSTART:20270504T150000Z
DTEND:20270504T190000Z
SUMMARY:Student Showcases - HS Students
DESCRIPTION:https://www.butlertech.org/event/student-showcases-hs-students-3/
LOCATION:
URL:https://www.butlertech.org/event/student-showcases-hs-students-3/
END:VEVENT
END:VCALENDAR
