BEGIN:VCALENDAR
VERSION:2.0
PRODID:-//Butler Tech//Internal Calendar//EN
CALSCALE:GREGORIAN
METHOD:PUBLISH
BEGIN:VEVENT
UID:14991@www.butlertech.org
DTSTAMP:20260420T224425Z
DTSTART;VALUE=DATE:20270507
DTEND;VALUE=DATE:20270508
SUMMARY:Blended Learning - All HS Students\, Acceptance Day!
DESCRIPTION:https://www.butlertech.org/event/blended-learning-all-hs-students-acceptance-day/
LOCATION:
URL:https://www.butlertech.org/event/blended-learning-all-hs-students-acceptance-day/
END:VEVENT
END:VCALENDAR
