BEGIN:VCALENDAR
VERSION:2.0
PRODID:-//Butler Tech//Internal Calendar//EN
CALSCALE:GREGORIAN
METHOD:PUBLISH
BEGIN:VEVENT
UID:14993@www.butlertech.org
DTSTAMP:20260420T230404Z
DTSTART;VALUE=DATE:20270520
DTEND;VALUE=DATE:20270521
SUMMARY:Last Day of School - All HS Students & Teachers
DESCRIPTION:https://www.butlertech.org/event/last-day-of-school-all-hs-students-teachers/
LOCATION:
URL:https://www.butlertech.org/event/last-day-of-school-all-hs-students-teachers/
END:VEVENT
END:VCALENDAR
