BEGIN:VCALENDAR
VERSION:2.0
PRODID:-//Butler Tech//Internal Calendar//EN
CALSCALE:GREGORIAN
METHOD:PUBLISH
BEGIN:VEVENT
UID:14999@www.butlertech.org
DTSTAMP:20260420T224344Z
DTSTART:20260423T160000Z
DTEND:20260423T200000Z
SUMMARY:Student Showcases
DESCRIPTION:https://www.butlertech.org/event/student-showcases/
LOCATION:Bioscience Center (BSC)
URL:https://www.butlertech.org/event/student-showcases/
END:VEVENT
END:VCALENDAR
