BEGIN:VCALENDAR
VERSION:2.0
PRODID:-//Butler Tech//Internal Calendar//EN
CALSCALE:GREGORIAN
METHOD:PUBLISH
BEGIN:VEVENT
UID:15005@www.butlertech.org
DTSTAMP:20260421T042222Z
DTSTART;VALUE=DATE:20260713
DTEND;VALUE=DATE:20260714
SUMMARY:CDL Class A Evening Start
DESCRIPTION:CDL Class A Evening: 07-13-2026 &#8211\; 09-28-2026Mon-Thu 5pm-9pmPublic Safety Liberty Twp Campus\n\nhttps://www.butlertech.org/event/cdl-class-a-evening-start-29/
LOCATION:
URL:https://www.butlertech.org/event/cdl-class-a-evening-start-29/
END:VEVENT
END:VCALENDAR
