BEGIN:VCALENDAR
VERSION:2.0
PRODID:-//Butler Tech//Internal Calendar//EN
CALSCALE:GREGORIAN
METHOD:PUBLISH
BEGIN:VEVENT
UID:15006@www.butlertech.org
DTSTAMP:20260421T042406Z
DTSTART;VALUE=DATE:20260824
DTEND;VALUE=DATE:20260825
SUMMARY:CDL Class B Day Start
DESCRIPTION:CDL Class B Day: 08-24-2026 &#8211\; 09-14-2026Mon-Fri 8am-5pmPublic Safety Liberty Twp Campus\n\nhttps://www.butlertech.org/event/cdl-class-b-day-start-57/
LOCATION:
URL:https://www.butlertech.org/event/cdl-class-b-day-start-57/
END:VEVENT
END:VCALENDAR
