BEGIN:VCALENDAR
VERSION:2.0
PRODID:-//Butler Tech//Internal Calendar//EN
CALSCALE:GREGORIAN
METHOD:PUBLISH
BEGIN:VEVENT
UID:15008@www.butlertech.org
DTSTAMP:20260421T042923Z
DTSTART;VALUE=DATE:20260914
DTEND;VALUE=DATE:20260915
SUMMARY:CDL Class B Evening Start
DESCRIPTION:CDL Class B Evening: 09-14-2026 &#8211\; 10-30-2026Mon-Thu 5pm-9pmPublic Safety Liberty Twp Campus\n\nhttps://www.butlertech.org/event/cdl-class-b-evening-start-22/
LOCATION:
URL:https://www.butlertech.org/event/cdl-class-b-evening-start-22/
END:VEVENT
END:VCALENDAR
