BEGIN:VCALENDAR
VERSION:2.0
PRODID:-//Butler Tech//Internal Calendar//EN
CALSCALE:GREGORIAN
METHOD:PUBLISH
BEGIN:VEVENT
UID:15013@www.butlertech.org
DTSTAMP:20260421T042741Z
DTSTART;VALUE=DATE:20261019
DTEND;VALUE=DATE:20261020
SUMMARY:CDL Class B Day Start
DESCRIPTION:CDL Class B Day: 10-19-2026 &#8211\; 11-09-2026Mon-Fri 8am-5pmPublic Safety Liberty Twp Campus\n\nhttps://www.butlertech.org/event/cdl-class-b-day-start-59/
LOCATION:
URL:https://www.butlertech.org/event/cdl-class-b-day-start-59/
END:VEVENT
END:VCALENDAR
