BEGIN:VCALENDAR
VERSION:2.0
PRODID:-//Butler Tech//Internal Calendar//EN
CALSCALE:GREGORIAN
METHOD:PUBLISH
BEGIN:VEVENT
UID:15016@www.butlertech.org
DTSTAMP:20260421T042557Z
DTSTART;VALUE=DATE:20261116
DTEND;VALUE=DATE:20261117
SUMMARY:CDL Class A Evening Start
DESCRIPTION:CDL Class A Evening: 11-16-2026 &#8211\; 02-05-2027Mon-Thu 5pm-9pmPublic Safety Liberty Twp Campus\n\nhttps://www.butlertech.org/event/cdl-class-a-evening-start-31/
LOCATION:
URL:https://www.butlertech.org/event/cdl-class-a-evening-start-31/
END:VEVENT
END:VCALENDAR
